BEGIN:VCALENDAR
VERSION:2.0
PRODID:-//eventon.com NONSGML v1.0//EN
CALSCALE:GREGORIAN
METHOD:PUBLISH
BEGIN:VEVENT
UID:69e73921ea983
DTSTAMP:20260421T084521Z
DTSTART:20241127T140000Z
DTEND:20241127T170000Z
LOCATION:Nachbarschaftszentrum Café Jakomini Conrad-von-Hötzendorf-Straße 72
SUMMARY:Generationencafé Infonachmittag: Sicherheitsrelevante Fragen des täglichen Lebens
DESCRIPTION:Mittwoch\,  27. November 2024Stadt Graz SicherheitsmanagementSi
 cherheitsrelevante Fragen des täglichen Lebens Infolink: www.sicherheit.gr
 az.at 15.00 &#8211; 18.00 UhrNachbarschaftszentrum Café Jakomini Teilnahme
  kostenlos!Eine leckere Jause und Infobroschüren zum Thema Sicherheit wart
 et auf jede/n Teilnehmer/in. GENERATIONENCAFÉ: Begegnung und Geselligkeit 
 für Jung und Alt Gute soziale Beziehungen und die Teilnahme am gesellschaf
 tlichen Leben sind in[..]\nhttps://nachbarschaftszentrum-cafejakomini.at/ev
 ents/generationencafe-infonachmittag-sicherheitsrelevante-fragen-des-taegli
 chen-lebens/
URL:https://nachbarschaftszentrum-cafejakomini.at/events/generationencafe-infonachmittag-sicherheitsrelevante-fragen-des-taeglichen-lebens/
END:VEVENT
END:VCALENDAR