BEGIN:VCALENDAR
VERSION:2.0
PRODID:-//eventon.com NONSGML v1.0//EN
CALSCALE:GREGORIAN
METHOD:PUBLISH
BEGIN:VEVENT
UID:69e73602b8431
DTSTAMP:20260421T083202Z
DTSTART:20251106T170000Z
DTEND:20251106T200000Z
LOCATION:Nachbarschaftszentrum Café Jakomini Conrad-von-Hötzendorf-Straße 72
SUMMARY:Generationencafé: Cafe Jakomini tanzt
DESCRIPTION:Gute soziale Beziehungen und die Teilnahme am gesellschaftliche
 n Leben sind in jedem Alter entscheidende Faktoren für Zufriedenheit und W
 ohlbefinden. Sie fördern eine positive Lebensperspektive und schützen vor
  Einsamkeit. Die von uns im Rahmen des Generationencafé angebotenen sozial
 en\,  kulturellen oder handwerklichen Aktivitäten sowie Bildungs- und Frei
 zeitangebote lassen Gemeinsamkeit erleben und bieten[..]\nhttps://nachbarsc
 haftszentrum-cafejakomini.at/events/generationencafe-cafe-jakomini-tanzt/
URL:https://nachbarschaftszentrum-cafejakomini.at/events/generationencafe-cafe-jakomini-tanzt/
END:VEVENT
END:VCALENDAR