BEGIN:VCALENDAR
VERSION:2.0
PRODID:-//eventon.com NONSGML v1.0//EN
CALSCALE:GREGORIAN
METHOD:PUBLISH
BEGIN:VEVENT
UID:69e7360446e34
DTSTAMP:20260421T083204Z
DTSTART:20260325T150000Z
DTEND:20260325T180000Z
LOCATION:Nachbarschaftszentrum CafÃ© Jakomini Conrad-von-HÃ¶tzendorf-StraÃŸe 72
SUMMARY:OFFENER BETRIEB
DESCRIPTION:Das Nachbarschaftszentrum CafÃ© Jakomini bietet im Rahmen des o
 ffenen Betriebs Menschen unterschiedlicher kultureller\,  weltanschaulicher
  und gesellschaftlicher Herkunft Gelegenheit fÃ¼r Begegnung und Austausch. 
 Komm&#8216; doch einfach auf Kaffee und Kuchen vorbei. ACHTUNG: Die Kernoff
 enhaltezeit ist von 16.00 &#8211; 18.00 Uhr. Sollten bis 18.00 Uhr keine GÃ
 ¤ste anwesend sein\,  so schlieÃŸen wir[..]\nhttps://nachbarschaftszentrum-
 cafejakomini.at/events/offener-betrieb/var/ri-1.l-L1
URL:https://nachbarschaftszentrum-cafejakomini.at/events/offener-betrieb/var/ri-1.l-L1
END:VEVENT
END:VCALENDAR